BEGIN:VCALENDAR
VERSION:2.0
PRODID:-//Musikverein St. Georgen bei Grieskirchen - ECPv6.15.17//NONSGML v1.0//EN
CALSCALE:GREGORIAN
METHOD:PUBLISH
X-WR-CALNAME:Musikverein St. Georgen bei Grieskirchen
X-ORIGINAL-URL:https://www.mv-stgeorgen.at
X-WR-CALDESC:Veranstaltungen für Musikverein St. Georgen bei Grieskirchen
REFRESH-INTERVAL;VALUE=DURATION:PT1H
X-Robots-Tag:noindex
X-PUBLISHED-TTL:PT1H
BEGIN:VTIMEZONE
TZID:UTC
BEGIN:STANDARD
TZOFFSETFROM:+0000
TZOFFSETTO:+0000
TZNAME:UTC
DTSTART:20220101T000000
END:STANDARD
END:VTIMEZONE
BEGIN:VEVENT
DTSTART;TZID=UTC:20230715T170000
DTEND;TZID=UTC:20230715T220000
DTSTAMP:20260424T010339
CREATED:20230126T142805Z
LAST-MODIFIED:20230520T085817Z
UID:3460-1689440400-1689458400@www.mv-stgeorgen.at
SUMMARY:Musikalisches Picknick
DESCRIPTION:
URL:https://www.mv-stgeorgen.at/veranstaltung/musikalisches-picknick/
LOCATION:Bauhof St. Georgen\, St. Georgen 50\, 4710\, Oberösterreich\, 4710\, Österreich
END:VEVENT
END:VCALENDAR