BEGIN:VCALENDAR
VERSION:2.0
PRODID:-//Musikverein St. Georgen bei Grieskirchen - ECPv6.15.17//NONSGML v1.0//EN
CALSCALE:GREGORIAN
METHOD:PUBLISH
X-ORIGINAL-URL:https://www.mv-stgeorgen.at
X-WR-CALDESC:Veranstaltungen für Musikverein St. Georgen bei Grieskirchen
REFRESH-INTERVAL;VALUE=DURATION:PT1H
X-Robots-Tag:noindex
X-PUBLISHED-TTL:PT1H
BEGIN:VTIMEZONE
TZID:Europe/Vienna
BEGIN:DAYLIGHT
TZOFFSETFROM:+0100
TZOFFSETTO:+0200
TZNAME:CEST
DTSTART:20230326T010000
END:DAYLIGHT
BEGIN:STANDARD
TZOFFSETFROM:+0200
TZOFFSETTO:+0100
TZNAME:CET
DTSTART:20231029T010000
END:STANDARD
BEGIN:DAYLIGHT
TZOFFSETFROM:+0100
TZOFFSETTO:+0200
TZNAME:CEST
DTSTART:20240331T010000
END:DAYLIGHT
BEGIN:STANDARD
TZOFFSETFROM:+0200
TZOFFSETTO:+0100
TZNAME:CET
DTSTART:20241027T010000
END:STANDARD
BEGIN:DAYLIGHT
TZOFFSETFROM:+0100
TZOFFSETTO:+0200
TZNAME:CEST
DTSTART:20250330T010000
END:DAYLIGHT
BEGIN:STANDARD
TZOFFSETFROM:+0200
TZOFFSETTO:+0100
TZNAME:CET
DTSTART:20251026T010000
END:STANDARD
END:VTIMEZONE
BEGIN:VEVENT
DTSTART;TZID=Europe/Vienna:20240615T180000
DTEND;TZID=Europe/Vienna:20240615T230000
DTSTAMP:20260423T041000
CREATED:20231212T143818Z
LAST-MODIFIED:20231212T143818Z
UID:3721-1718474400-1718492400@www.mv-stgeorgen.at
SUMMARY:Dämmerschoppen
DESCRIPTION:
URL:https://www.mv-stgeorgen.at/veranstaltung/daemmerschoppen-4/
LOCATION:Infoplatz Tolleterau\, Tolleterau 115\, St. Georgen bei Grieskirchen\, 4710\, Österreich
END:VEVENT
BEGIN:VEVENT
DTSTART;VALUE=DATE:20240621
DTEND;VALUE=DATE:20240625
DTSTAMP:20260423T041000
CREATED:20231212T143850Z
LAST-MODIFIED:20231212T143903Z
UID:3723-1718942400-1719201599@www.mv-stgeorgen.at
SUMMARY:BMF Waizenkirchen
DESCRIPTION:
URL:https://www.mv-stgeorgen.at/veranstaltung/bmf-waizenkirchen/
LOCATION:Waizenkirchen
END:VEVENT
END:VCALENDAR