BEGIN:VCALENDAR
VERSION:2.0
PRODID:-//Musikverein St. Georgen bei Grieskirchen - ECPv6.15.17//NONSGML v1.0//EN
CALSCALE:GREGORIAN
METHOD:PUBLISH
X-WR-CALNAME:Musikverein St. Georgen bei Grieskirchen
X-ORIGINAL-URL:https://www.mv-stgeorgen.at
X-WR-CALDESC:Veranstaltungen für Musikverein St. Georgen bei Grieskirchen
REFRESH-INTERVAL;VALUE=DURATION:PT1H
X-Robots-Tag:noindex
X-PUBLISHED-TTL:PT1H
BEGIN:VTIMEZONE
TZID:Europe/Vienna
BEGIN:DAYLIGHT
TZOFFSETFROM:+0100
TZOFFSETTO:+0200
TZNAME:CEST
DTSTART:20230326T010000
END:DAYLIGHT
BEGIN:STANDARD
TZOFFSETFROM:+0200
TZOFFSETTO:+0100
TZNAME:CET
DTSTART:20231029T010000
END:STANDARD
BEGIN:DAYLIGHT
TZOFFSETFROM:+0100
TZOFFSETTO:+0200
TZNAME:CEST
DTSTART:20240331T010000
END:DAYLIGHT
BEGIN:STANDARD
TZOFFSETFROM:+0200
TZOFFSETTO:+0100
TZNAME:CET
DTSTART:20241027T010000
END:STANDARD
BEGIN:DAYLIGHT
TZOFFSETFROM:+0100
TZOFFSETTO:+0200
TZNAME:CEST
DTSTART:20250330T010000
END:DAYLIGHT
BEGIN:STANDARD
TZOFFSETFROM:+0200
TZOFFSETTO:+0100
TZNAME:CET
DTSTART:20251026T010000
END:STANDARD
END:VTIMEZONE
BEGIN:VEVENT
DTSTART;VALUE=DATE:20241109
DTEND;VALUE=DATE:20241111
DTSTAMP:20260422T185400
CREATED:20240823T082123Z
LAST-MODIFIED:20240823T082123Z
UID:3915-1731124800-1731211199@www.mv-stgeorgen.at
SUMMARY:Konzertwertung
DESCRIPTION:
URL:https://www.mv-stgeorgen.at/veranstaltung/konzertwertung-2/
LOCATION:Bräuhaus Eferding
END:VEVENT
BEGIN:VEVENT
DTSTART;TZID=Europe/Vienna:20241129T193000
DTEND;TZID=Europe/Vienna:20241129T220000
DTSTAMP:20260422T185400
CREATED:20231212T144341Z
LAST-MODIFIED:20241122T083516Z
UID:3730-1732908600-1732917600@www.mv-stgeorgen.at
SUMMARY:Kirchenkonzert
DESCRIPTION:
URL:https://www.mv-stgeorgen.at/veranstaltung/kirchenkonzert-4/
LOCATION:Kirche St. Georgen\, St. Georgen\, St. Georgen bei Grieskirchen\, 4710\, Österreich
END:VEVENT
END:VCALENDAR